BEGIN:VCALENDAR
VERSION:2.0
PRODID:-//Geethanjali
CALSCALE:GREGORIAN
METHOD:PUBLISH
X-WR-CALNAME:Geethanjali
X-ORIGINAL-URL:https://gist.edu.in/gist/event/a-five-days-hands-on-training-on-machine-learning-using-python-programming/
X-WR-CALDESC:A Five Day hands on training on  Machine Learning using Python Programming
BEGIN:VEVENT
DTSTART:
DTEND:
SUMMARY:A Five Day hands on training on  Machine Learning using Python Programming
DESCRIPTION:A Five Day hands on training on  Machine Learning using Python Programming
LOCATION:
END:VEVENT
END:VCALENDAR
