BEGIN:VCALENDAR
VERSION:2.0
PRODID:-//Geethanjali
CALSCALE:GREGORIAN
METHOD:PUBLISH
X-WR-CALNAME:Geethanjali
X-ORIGINAL-URL:https://gist.edu.in/gist/event/a-five-day-hands-on-training-in-embedded-c-programming/
X-WR-CALDESC:A Five Day Hands on training in Embedded C Programming
BEGIN:VEVENT
DTSTART:
DTEND:
SUMMARY:A Five Day Hands on training in Embedded C Programming
DESCRIPTION:A Five Day Hands on training in Embedded C Programming 
LOCATION:
END:VEVENT
END:VCALENDAR
