BEGIN:VCALENDAR
VERSION:2.0
PRODID:-//Geethanjali
CALSCALE:GREGORIAN
METHOD:PUBLISH
X-WR-CALNAME:Geethanjali
X-ORIGINAL-URL:https://gist.edu.in/gist/event/womens-health/
X-WR-CALDESC:Health awareness Programme on Breast Cancer
BEGIN:VEVENT
DTSTART:
DTEND:
SUMMARY:Health awareness Programme on Breast Cancer
DESCRIPTION:Report on “Women’s Health”
LOCATION:
END:VEVENT
END:VCALENDAR
