BEGIN:VCALENDAR
VERSION:2.0
PRODID:-//Geethanjali
CALSCALE:GREGORIAN
METHOD:PUBLISH
X-WR-CALNAME:Geethanjali
X-ORIGINAL-URL:https://gist.edu.in/gist/event/elocution/
X-WR-CALDESC:Elocution on Does gender help or hinder women in the work place
BEGIN:VEVENT
DTSTART:
DTEND:
SUMMARY:Elocution on Does gender help or hinder women in the work place
DESCRIPTION:Report on Does gender help or hinder women in the workplace
LOCATION:
END:VEVENT
END:VCALENDAR
