BEGIN:VCALENDAR
VERSION:2.0
PRODID:-//Geethanjali
CALSCALE:GREGORIAN
METHOD:PUBLISH
X-WR-CALNAME:Geethanjali
X-ORIGINAL-URL:https://gist.edu.in/gist/event/international-womens-day-2/
X-WR-CALDESC:International Women’s Day- Balance for Better
BEGIN:VEVENT
DTSTART:
DTEND:
SUMMARY:International Women’s Day- Balance for Better
DESCRIPTION:Report on International Women’s Day
LOCATION:
END:VEVENT
END:VCALENDAR
