BEGIN:VCALENDAR
VERSION:2.0
PRODID:-//Geethanjali
CALSCALE:GREGORIAN
METHOD:PUBLISH
X-WR-CALNAME:Geethanjali
X-ORIGINAL-URL:https://gist.edu.in/gist/event/legal-rights-for-women/
X-WR-CALDESC:Legal Rights For Women
BEGIN:VEVENT
DTSTART:
DTEND:
SUMMARY:Legal Rights For Women
DESCRIPTION:Report on Legal Rights For Women
LOCATION:
END:VEVENT
END:VCALENDAR
