BEGIN:VCALENDAR
VERSION:2.0
PRODID:-//Geethanjali
CALSCALE:GREGORIAN
METHOD:PUBLISH
X-WR-CALNAME:Geethanjali
X-ORIGINAL-URL:https://gist.edu.in/gist/event/ncitee-2k19/
X-WR-CALDESC:NCITEE 2K19
BEGIN:VEVENT
DTSTART:
DTEND:
SUMMARY:NCITEE 2K19
DESCRIPTION:Report on NCITEE 2K19
LOCATION:
END:VEVENT
END:VCALENDAR
