BEGIN:VCALENDAR
VERSION:2.0
PRODID:-//Geethanjali
CALSCALE:GREGORIAN
METHOD:PUBLISH
X-WR-CALNAME:Geethanjali
X-ORIGINAL-URL:https://gist.edu.in/gist/event/gender-equality/
X-WR-CALDESC:Gender Equality
BEGIN:VEVENT
DTSTART:
DTEND:
SUMMARY:Gender Equality
DESCRIPTION:Gender Equality
LOCATION:
END:VEVENT
END:VCALENDAR
