BEGIN:VCALENDAR
VERSION:2.0
PRODID:-//Geethanjali
CALSCALE:GREGORIAN
METHOD:PUBLISH
X-WR-CALNAME:Geethanjali
X-ORIGINAL-URL:https://gist.edu.in/gist/event/a-one-day-workshop-on-moodle-learning-management-system/
X-WR-CALDESC:A one day workshop on Moodle Learning Management System
BEGIN:VEVENT
DTSTART:
DTEND:
SUMMARY:A one day workshop on Moodle Learning Management System
DESCRIPTION:A one day workshop on Moodle Learning Management System on Friday, 15 March 2019
LOCATION:
END:VEVENT
END:VCALENDAR
