BEGIN:VCALENDAR
VERSION:2.0
PRODID:-//Geethanjali
CALSCALE:GREGORIAN
METHOD:PUBLISH
X-WR-CALNAME:Geethanjali
X-ORIGINAL-URL:https://gist.edu.in/gist/event/iucee-virtual-academy-webinars-held-on-march-12-2019/
X-WR-CALDESC:IUCEE Virtual Academy Webinars held on March 12, 2019
BEGIN:VEVENT
DTSTART:
DTEND:
SUMMARY:IUCEE Virtual Academy Webinars held on March 12, 2019
DESCRIPTION:IUCEE Virtual Academy Webinars held on March 12, 2019
LOCATION:
END:VEVENT
END:VCALENDAR
