BEGIN:VCALENDAR
VERSION:2.0
PRODID:-//Geethanjali
CALSCALE:GREGORIAN
METHOD:PUBLISH
X-WR-CALNAME:Geethanjali
X-ORIGINAL-URL:https://gist.edu.in/gist/event/social-awareness-programme-on-road-safety-and-social-responsibility/
X-WR-CALDESC:Social Awareness Programme on Road Safety and Social Responsibility
BEGIN:VEVENT
DTSTART:
DTEND:
SUMMARY:Social Awareness Programme on Road Safety and Social Responsibility
DESCRIPTION:A Report on Social Awareness Programme on Road Safety and Social Responsibility
LOCATION:
END:VEVENT
END:VCALENDAR
