BEGIN:VCALENDAR
VERSION:2.0
PRODID:-//Geethanjali
CALSCALE:GREGORIAN
METHOD:PUBLISH
X-WR-CALNAME:Geethanjali
X-ORIGINAL-URL:https://gist.edu.in/gist/event/workshop-on-vijayam-mee-gupittlo/
X-WR-CALDESC:workshop on VIJAYAM MEE GUPITTLO
BEGIN:VEVENT
DTSTART:
DTEND:
SUMMARY:workshop on VIJAYAM MEE GUPITTLO
DESCRIPTION:Career Guidance Grooming workshop on VIJAYAM MEE GUPITTLO
LOCATION:
END:VEVENT
END:VCALENDAR
