BEGIN:VCALENDAR
VERSION:2.0
PRODID:-//Geethanjali
CALSCALE:GREGORIAN
METHOD:PUBLISH
X-WR-CALNAME:Geethanjali
X-ORIGINAL-URL:https://gist.edu.in/gist/event/five-day-fdp-on-ai-using-neural-networks/
X-WR-CALDESC:Five Day FDP on AI USING NEURAL NETWORKS
BEGIN:VEVENT
DTSTART:
DTEND:
SUMMARY:Five Day FDP on AI USING NEURAL NETWORKS
DESCRIPTION:Report on Five Day FDP on AI USING NEURAL NETWORKS
LOCATION:
END:VEVENT
END:VCALENDAR
