BEGIN:VCALENDAR
VERSION:2.0
PRODID:-//Geethanjali
CALSCALE:GREGORIAN
METHOD:PUBLISH
X-WR-CALNAME:Geethanjali
X-ORIGINAL-URL:https://gist.edu.in/gist/event/gistechfest2k19/
X-WR-CALDESC:GISTECHFEST2K19
BEGIN:VEVENT
DTSTART:
DTEND:
SUMMARY:GISTECHFEST2K19
DESCRIPTION:A National Level Technical Symposium
LOCATION:
END:VEVENT
END:VCALENDAR
