BEGIN:VCALENDAR
VERSION:2.0
PRODID:-//Geethanjali
CALSCALE:GREGORIAN
METHOD:PUBLISH
X-WR-CALNAME:Geethanjali
X-ORIGINAL-URL:https://gist.edu.in/gist/event/design-and-drawing-of-irrigation-structures-2/
X-WR-CALDESC:Design and Drawing of Irrigation Structures
BEGIN:VEVENT
DTSTART:
DTEND:
SUMMARY:Design and Drawing of Irrigation Structures
DESCRIPTION:A Report on Design and Drawing of Irrigation Structures
LOCATION:
END:VEVENT
END:VCALENDAR
